BEGIN:VCALENDAR
VERSION:2.0
PRODID:-//Eventin//Event Calendar//EN
CALSCALE:GREGORIAN
METHOD:PUBLISH
BEGIN:VEVENT
UID:57e5a0506fc3235eb5e8675a7a4308c0@regency.church
SUMMARY:Brothers Reaching Others
DESCRIPTION:Regency Church invites men of all ages to join us for BROS: Bro
 thers Reaching Others on Saturday\, May 16th at 10:00 AM. This gathering is
  designed to strengthen men through authentic connection\, encouragement\, 
 and practical biblical insight that equips you to lead well at home\, at wo
 rk\, and in your community. Come ready for meaningful conversation\, brothe
 rhood\, and a time of spiritual growth as we challenge one another to live 
 with purpose and impact. We look forward to seeing you at Regency Church fo
 r a powerful time together.
LOCATION:Regency Church\, 7038 Pickering Ave. Whittier\, CA 90602
DTSTAMP:20260422T181347Z
DTSTART:20260516T170000Z
DTEND:20260516T190000Z
END:VEVENT
END:VCALENDAR
