BEGIN:VCALENDAR
VERSION:2.0
PRODID:-//Eventin//Event Calendar//EN
CALSCALE:GREGORIAN
METHOD:PUBLISH
BEGIN:VEVENT
UID:d64b6ba7f59321541257af99c39c9443@regency.church
SUMMARY:Regency Youth Encounter Nights
DESCRIPTION:Regency Church invites students to join us for Regency Youth En
 counter Nights on Friday\, May 15 at 7 PM. This powerful evening is centere
 d on worship and the Word\, creating space for young people to experience G
 od in a real and personal way. Our Regency Youth Coffee Brew Bar will be op
 en with favorite drinks and snacks available\, making it a welcoming and re
 laxed environment to connect with friends and grow in faith. This free yout
 h event is the perfect opportunity to bring friends and encounter God toget
 her for a night that will leave a lasting impact.
LOCATION:Regency Church\, 7038 Pickering Ave. Whittier\, CA 90602
DTSTAMP:20260422T181347Z
DTSTART:20260516T020000Z
DTEND:20260516T040000Z
END:VEVENT
END:VCALENDAR
