BEGIN:VCALENDAR
VERSION:2.0
PRODID:-//Eventin//Event Calendar//EN
CALSCALE:GREGORIAN
METHOD:PUBLISH
BEGIN:VEVENT
UID:2d29ecc24c475cf133bf232815128e96@regency.church
SUMMARY:Life Builder Seminar
DESCRIPTION:Regency Church invites you to attend the Life Builder Seminar: 
 Creative Shift – Activating the Grace Within You on Saturday\, April 25\,
  2026\, from 9:00 AM to 12:30 PM. This inspiring seminar is designed to enc
 ourage personal growth\, creativity\, and spiritual development as particip
 ants discover how God’s grace empowers them to step into new purpose and 
 possibilities. Featuring Dr. Cathy Guerrero and Jennifer Tapia\, the mornin
 g will include practical teaching\, meaningful conversation\, and opportuni
 ties to connect with others. Doors open at 8:15 AM for coffee and connectio
 n\, and the event will take place at Regency Church\, 7038 Pickering Ave.\,
  Whittier. All materials are provided\, and we invite you to reserve your s
 pot and join us for this uplifting experience.
LOCATION:Regency Church\, 7038 Pickering Ave. Whittier\, CA 90602
DTSTAMP:20260422T181359Z
DTSTART:20260425T160000Z
DTEND:20260425T193000Z
END:VEVENT
END:VCALENDAR
