BEGIN:VCALENDAR
VERSION:2.0
PRODID:-//Eventin//Event Calendar//EN
CALSCALE:GREGORIAN
METHOD:PUBLISH
BEGIN:VEVENT
UID:1cd8d77fe450417c59bedce1f5615dc5@regency.church
SUMMARY:Soul Care Group
DESCRIPTION:Regency Church invites you to join Soul Care Group\, a nine-wee
 k journey designed to help you uncover what lies beneath the surface of you
 r story and experience true freedom in Christ. Through practical teaching\,
  guided reflection\, and honest small-group conversation\, you will learn h
 ow to partner with the Holy Spirit for lasting transformation in your relat
 ionships and walk with God. Join us at 6:30 PM on Wednesdays for nine weeks
  beginning March 11th and take a meaningful step toward healing and growth.
LOCATION:Regency Church\, 7038 Pickering Ave. Whittier\, CA 90602
DTSTAMP:20260422T193521Z
DTSTART:20260513T133000Z
DTEND:20260513T150000Z
END:VEVENT
END:VCALENDAR
