BEGIN:VCALENDAR
VERSION:2.0
PRODID:-//Eventin//Event Calendar//EN
CALSCALE:GREGORIAN
METHOD:PUBLISH
BEGIN:VEVENT
UID:9bf8a9b9c58b94c4652d9c639c66b9de@regency.church
SUMMARY:Greg & Julie Bailey
DESCRIPTION:Join us this Sunday for a special service as we welcome guest s
 peakers Greg and Julie Bailey. With a passion for sharing God’s Word and 
 encouraging believers\, they bring a powerful message that speaks to real l
 ife\, faith\, and purpose.\nWhether you're new to church or have been walki
 ng with God for years\, this is a great opportunity to be refreshed\, inspi
 red\, and strengthened in your faith. Come expectant and ready to receive.\
 nInvite your friends and family and be part of what God is doing!
LOCATION:Regency Church\, 7038 Pickering Ave. Whittier\, CA 90602
DTSTAMP:20260422T181359Z
DTSTART:20260426T160000Z
DTEND:20260426T170000Z
END:VEVENT
END:VCALENDAR
