BEGIN:VCALENDAR
VERSION:2.0
PRODID:-//Eventin//Event Calendar//EN
CALSCALE:GREGORIAN
METHOD:PUBLISH
BEGIN:VEVENT
UID:3b0bd5a22092ea5a324128219341ad0d@regency.church
SUMMARY:Soul Care 2: Going Deeper CONFERENCE
DESCRIPTION:SOUL CARE 2 CONFERENCE\nSoul Care 2 takes soul care health even
  deeper. This CONFERENCE explores how to process and breakthrough\, overcom
 e shame and anxiety\, navigate grief and discouragement\, and uncover root 
 issues affecting your well-being.\nDon’t miss this opportunity to invest 
 in your soul and step into deeper healing. Join us at Soul Care 2 and exper
 ience real breakthroughs\, encouragement\, and hope for your journey. Your 
 soul deserves this!\n  REGISTER NOW FOR ONLY $75!
LOCATION:Regency Church\, 7038 Pickering Ave. Whittier\, CA 90602
DTSTAMP:20260422T181302Z
DTSTART:20260808T020000Z
DTEND:20260808T154500Z
END:VEVENT
END:VCALENDAR
