BEGIN:VCALENDAR
VERSION:2.0
PRODID:-//Eventin//Event Calendar//EN
CALSCALE:GREGORIAN
METHOD:PUBLISH
BEGIN:VEVENT
UID:bb995eab8ca3cf05220efa7d59636386@regency.church
SUMMARY:BROS Pier Fishing Night
DESCRIPTION:Join the men of Regency Church for an unforgettable evening of 
 connection\, relaxation\, and fellowship at BROS Pier Fishing Night. Hosted
  by Brothers Reaching Others\, this event is all about building authentic r
 elationships while enjoying the outdoors in a laid-back\, welcoming environ
 ment. Whether you’re an experienced fisherman or just coming to hang out\
 , you’ll find a place to belong as we spend time together on the pier\, s
 hare conversations\, and encourage one another. The evening takes place Fri
 day\, May 8th from 6:00 PM to 9:30 PM at Seal Beach Pier\, and there’s ev
 en a little friendly competition with a gift card prize for the first catch
  of the night. Bring a friend\, bring your gear\, and come ready for a grea
 t time with great men.
LOCATION:Seal Beach Pier
DTSTAMP:20260422T181302Z
DTSTART:20260509T010000Z
DTEND:20260509T043000Z
END:VEVENT
END:VCALENDAR
