BEGIN:VCALENDAR
VERSION:2.0
PRODID:-//Eventin//Event Calendar//EN
CALSCALE:GREGORIAN
METHOD:PUBLISH
BEGIN:VEVENT
UID:a9e4d032f3b7500af91a313486424d70@regency.church
SUMMARY:National Day of Prayer
DESCRIPTION:Be part of a meaningful night of unity and intercession at our 
 National Day of Prayer gathering. On May 7th at 6:30 PM\, we will come toge
 ther as a church family to seek God\, lift up our community\, our nation\, 
 and one another in prayer. This is a powerful opportunity to stand in faith
 \, believe for breakthrough\, and experience the strength that comes from p
 raying together.
LOCATION:Regency Church\, 7038 Pickering Ave. Whittier\, CA 90602
DTSTAMP:20260422T181226Z
DTSTART:20260508T013000Z
DTEND:20260508T030000Z
END:VEVENT
END:VCALENDAR
