BEGIN:VCALENDAR
VERSION:2.0
PRODID:-//Eventin//Event Calendar//EN
CALSCALE:GREGORIAN
METHOD:PUBLISH
BEGIN:VEVENT
UID:03410fdfaf3e5c90f6573b99d017e34c@regency.church
SUMMARY:Descubriendo Tu Identidad Inquebrantable
DESCRIPTION:Únete a nosotros para un tiempo poderoso de crecimiento y áni
 mo en “Descubriendo Tu Identidad Inquebrantable.” Este evento está dis
 eñado para ayudarte a descubrir quién eres en Cristo y caminar con confia
 nza en la identidad que Dios te ha dado. El 16 de mayo a las 9:30 AM\, ven 
 y experimenta un ambiente acogedor en Regency Church donde serás edificado
 \, inspirado y fortalecido en tu fe junto a otros que están en el mismo ca
 mino.
LOCATION:Regency Church\, 7038 Pickering Ave. Whittier\, CA 90602
DTSTAMP:20260422T181226Z
DTSTART:20260516T163000Z
DTEND:20260516T180000Z
END:VEVENT
END:VCALENDAR
